Workbook

Sheet таблица 2
D1: Таблица 2 к пояснительной записке
A3: Корректировка расходов бюджета к проекту решения Думы города Урай "О внесении изменений в бюджет городского округа Урай Ханты-Мансийского автономного округа – Югры на 2025 год и на плановый период 2026 и 2027 годов" (переходящие БО 2024 года)
D5: (тыс.рублей)
A6: № п/п | B6: Сумма корректировки на 2025 год | C6: На какие цели | D6: ГРБС
D7: Администрация города Урай
A8: 1 | B8: 2 | C8: 3 | D8: 4
A9: 1. | B9: =B10+B12 -> 39233.8 | C9: За счет средств в рамках Соглашения о сотрудничестве между Правительством Ханты-Мансийского автономного округа –Югры и ПАО "Нефтяная компания "ЛУКОЙЛ" остатки 2023-2024 годов | D9: =D10+D12 -> 39233.8
A10: 1.1. | B10: =B11 -> 33065.6 | C10: Муниципальная программа "Развитие образования и молодежной политики в городе Урай" | D10: =D11 -> 33065.6
A11: 1.1.1. | B11: =D11 -> 33065.6 | C11: Строительство школы в мкр.1А | D11: 33065.6
A12: 1.2. | B12: =B13+B14 -> 6168.2 | C12: Муниципальная программа "Формирование комфортной городской среды города Урай" | D12: =D13+D14 -> 6168.2
A13: 1.2.1. | B13: =D13 -> 365.3 | C13: Выполнение работ по установке гранитного бордюра (остатки 2023 года) | D13: 365.3
A14: 1.2.2. | B14: =D14 -> 5802.9 | C14: Выполнение работ по комплексному благоустройству территории "Историко-мемориальный комплекс" (1 этап) | D14: =5802.9 -> 5802.9
A15: 2. | B15: =B16+B21+B23+B25+B27+B31+B36+B40+B45 -> 81392.6 | C15: Местный бюджет | D15: =D16+D21+D23+D25+D27+D31+D36+D40+D45 -> 81392.6
A16: 2.1. | B16: =SUM(B17:B20) -> 13035 | C16: Муниципальная программа "Развитие образования и молодежной политики в городе Урай" | D16: =SUM(D17:D20) -> 13035
A17: 2.1.1. | B17: =D17 -> 2475.8 | C17: Строительство школы в мкр.1А (доля софинансирования местного бюджета) | D17: =2475.8 -> 2475.8
A18: 2.1.2. | B18: =D18 -> 1748.9 | C18: Выполнение ПИРов по объекту "Капитальный ремонт МБДОУ "Детский сад №19 "Радость", корректировка проектной документации и сопровожд.экспертизы достоверной сметной стоимости по объекту "Капитальный ремонт МБДОУ Детский сад №12" | D18: =1149.9+599 -> 1748.9
A19: 2.1.3. | B19: =D19 -> 1267.9 | C19: Выполнение инженерных изысканий, подготовка ПСД объект "Капитальный ремонт МБОУ "Гимназия им. А.И. Яковлева" | D19: 1267.9
A20: 2.1.4. | B20: =D20 -> 7542.4 | C20: Выполнение работ по инженерным изысканиям МБОУ СОШ №12 | D20: 7542.4
A21: 2.2. | B21: =SUM(B22:B22) -> 1095.8 | C21: Муниципальная программа "Культура города Урай" | D21: =SUM(D22:D22) -> 1095.8
A22: 2.2.1. | B22: =D22 -> 1095.8 | C22: Выполнение проектных работ по объектам "Капитальный ремонт фасада МБУ ДО ДШИ (по адресу: мкр 2,д.86), "Капитальный ремонт кровли МБУ ДО ДШИ (по адресу: мкр 3,д.55а) | D22: =573.8+522 -> 1095.8
A23: 2.3. | B23: =SUM(B24:B24) -> 103.1 | C23: Муниципальная программа "Защита населения и территории от чрезвычайных ситуаций, совершенствование гражданской обороны и обеспечение первичных мер пожарной безопасности» на 2019-2030 годы | D23: =SUM(D24:D24) -> 103.1
A24: 2.3.1. | B24: =D24 -> 103.1 | C24: Оказание услуг по активации сертификата поддержки на ПО VipNet | D24: 103.1
A25: 2.4. | B25: =SUM(B26:B26) -> 198.9 | C25: Муниципальная программа "Охрана окружающей среды в границах города Урай" | D25: =SUM(D26:D26) -> 198.9
A26: 2.4.1. | B26: =D26 -> 198.9 | C26: Выполнение услуг по ликвидации мест несанкционированного размещения отходов на территории города Урай | D26: =198.9 -> 198.9
A27: 2.5. | B27: =SUM(B28:B30) -> 9342.2 | C27: Муниципальная программа "Развитие транспортной системы города Урай" | D27: =SUM(D28:D30) -> 9342.2
A28: 2.5.1. | B28: =D28 -> 6480.1 | C28: Выполнение корректировки ПСД реконструкции объект "Объездная автомобильная дорога г.Урай" | D28: 6480.1
A29: 2.5.2. | B29: =D29 -> 960.7 | C29: Выполнение работ по тех.присоединению объект "Наружное освещение объекта "Объездная автомобильная дорога в г.Урай" | D29: 960.7
A30: 2.5.3. | B30: =D30 -> 1901.4 | C30: За фактически оказанные услуги по осуществлению пассажирских перевозок за декабрь 2024 года по городским автобусным маршрутам | D30: 1901.4
A31: 2.6. | B31: =SUM(B32:B35) -> 5116.1 | C31: Муниципальная программа "Формирование комфортной городской среды города Урай" | D31: =SUM(D32:D35) -> 5116.1
A32: 2.6.1. | B32: =D32 -> 4394.3 | C32: Выполнение работ по изготовлению и установке мемориала памяти на объект "Благоустройство зоны захоронения с установкой мемориала памяти на кладбище №4" | D32: =4394.3 -> 4394.3
A33: 2.6.2. | B33: =D33 -> 9.4 | C33: Выполнение работ по тех.присоединению к электросетям объект "Комплексное благоустройство территории "Историко-мемориальный комплекс" (1 этап) | D33: 9.4
A34: 2.6.3. | B34: =D34 -> 112.4 | C34: Выполнение инженерно-геодезических изысканий, выполнение тех.присоединения к эл.сетям объект "Пешеходная зона в микрорайоне 1А" | D34: 112.4
A35: 2.6.4. | B35: =D35 -> 600 | C35: Содержание новогоднего ледового городка (декабрь-февраль 2025 года) | D35: =600 -> 600
A36: 2.7. | B36: =SUM(B37:B39) -> 212.1 | C36: Муниципальная программа "Обеспечение градостроительной деятельности на территории города Урай" | D36: =SUM(D37:D39) -> 212.1
A37: 2.7.1. | B37: =D37 -> 75.4 | C37: Изготовление тех.плана объектов "Инженерные сети тепло и водоснабжения к дому №39 мкр.1А", выполнение работ по техприсоединению к эл.сетям объект "Устройство сетей наружного освещения по ул.9 Мая и Хвойная" | D37: =30+45.4 -> 75.4
A38: 2.7.2. | B38: =D38 -> 47.2 | C38: Выполнение кадастровых работ | D38: 47.2
A39: 2.7.3. | B39: =D39 -> 89.5 | C39: Оказание услуг по предоставлению права использования программного обеспечения | D39: 89.5
A40: 2.8. | B40: =SUM(B41:B44) -> 3778 | C40: Муниципальная программа «Совершенствование и развитие муниципального управления в городе Урай» | D40: =SUM(D41:D44) -> 3778
A41: 2.8.1. | B41: =D41 -> 269 | C41: Выполнение работ по разработке ПСД объект "Капитальный ремонт кровли нежилого помещения -часть административно-бытового корпуса,расположенного по адресу г.Урай ул.Береговая, д10" | D41: 269
A42: 2.8.2. | B42: =D42 -> 3262.3 | C42: Выполнение работ по ремонту крыши в административном здании по адресу мкр.2 д.59 | D42: 3262.3
...

Sheet таблица 3
D1: Таблица 3 к пояснительной записке
A2: Корректировка расходов бюджета к проекту решения Думы города Урай "О внесении изменений в бюджет городского округа Урай Ханты-Мансийского автономного округа – Югры на 2025 год и на плановый период 2026 и 2027 годов"
F3: (тыс.рублей)
A4: № п/п | B4: Сумма корректировки на 2025 год | C4: На какие цели | D4: ГРБС
D5: Администрация города Урай | E5: Комитет по финансам администрации города Урай | F5: Управление образования администрации города Урай
A6: 1 | B6: 2 | C6: 3 | D6: 4 | E6: 5 | F6: 6
A7: 1. | B7: =B8+B10+B12+B14 -> 1940 | C7: Иные межбюджетные трансферты | D7: =D8+D10+D12+D14 -> 1392 | E7: =E8+E10+E12+E14 -> 0 | F7: =F8+F10+F12+F14 -> 548
A8: 1.1. | B8: =B9 -> 698 | C8: Муниципальная программа "Развитие образования и молодежной политики в городе Урай" | D8: =D9 -> 150 | E8: =E9 -> 0 | F8: =F9 -> 548
A9: 1.1.1. | B9: =D9+E9+F9 -> 698 | C9: Реализация наказов избирателей депутатам Думы ХМАО - Югры - 1 квартал 2025 года (МБОУ СОШ №5 - оказание финансовой помощи на организацию и проведение спортивно-патриотического мероприятия "Гонка мужества памяти выпускника кадетского корпуса И.А.Свиридова", МБУ ДО "Центр дополнительного образования"- оказание финансовой помощи на приобретение мебели, оргтехники, оформление интерьера, МАУ молодежной политики города Урай "Центр молодежных и гражданских инициатив" - оказание финансовой помощи на приобретение экипировки для отделения Всероссийского общественного движения "Волонтеры Победы") | D9: 150 | E9: 0 | F9: =220+328 -> 548
A10: 1.2. | B10: =B11 -> 870 | C10: Муниципальная программа "Развитие физической культуры, спорта и туризма в городе Урай и укрепление здоровья граждан города Урай" | D10: =D11 -> 870 | E10: =E11 -> 0 | F10: =F11 -> 0
A11: 1.2.1. | B11: =D11+E11+F11 -> 870 | C11: Реализация наказов избирателей депутатам Думы ХМАО - Югры - 1 квартал 2025 года (МАУ ДО"СШ "Старт" - оказание финансовой помощи на проведение XVI открытого межрегионального турнира по боксу, посвященного Дню Победы в ВОВ 1941-1945гг, приобретение спортивных костюмов для отделения бокса, спортивного инвентаря для секции пауэрлифтинга, компьютерной техники и комплектующих к ней, приобретение спортивной формы) | D11: =770+100 -> 870 | E11: 0 | F11: 0
A12: 1.3. | B12: =B13 -> 282 | C12: Муниципальная программа "Культура города Урай" | D12: =D13 -> 282 | E12: =E13 -> 0 | F12: =F13 -> 0
A13: 1.3.1. | B13: =D13+E13+F13 -> 282 | C13: Реализация наказов избирателей депутатам Думы ХМАО - Югры - 1 квартал 2025 года (МАУ "Культура" оказание финансовой помощи на организацию и проведение фестивалей и конкурсов в КДЦ "Нефтяник", проведение открытого городского фестиваля-конкурса детского и юношеского творчества "Моя Россия" в КЦК "Юность Шаима") | D13: 282 | E13: 0 | F13: 0
A14: 1.4. | B14: =B15 -> 90 | C14: Непрограммные направления деятельности | D14: =D15 -> 90 | E14: =E15 -> 0 | F14: =F15 -> 0
A15: 1.4.1. | B15: =D15+E15+F15 -> 90 | C15: Поощрение мобилизационных групп городского округа Урай | D15: 90 | E15: 0 | F15: 0
A16: 2. | B16: =B17+B19+B21+B23+B25 -> 137958 | C16: За счет средств в рамках Соглашения о сотрудничестве между Правительством Ханты-Мансийского автономного округа –Югры и ПАО "Нефтяная компания "ЛУКОЙЛ" | D16: =D17+D19+D21+D23+D25 -> 137958 | E16: =E17+E23 -> 0 | F16: =F17+F23 -> 0
A17: 2.1. | B17: =B18 -> 8000 | C17: Муниципальная программа "Развитие образования и молодежной политики в городе Урай" | D17: =D18 -> 8000 | E17: =E18 -> 0 | F17: =F18 -> 0
A18: 2.1.1. | B18: =D18+F18 -> 8000 | C18: Благоустройство и ремонт инженерных сетей на объектах образования | D18: 8000
A19: 2.2. | B19: =B20 -> 34745 | C19: Муниципальная программа "Культура города Урай" | D19: =D20 -> 34745 | E19: =E20 -> 0 | F19: =F20 -> 0
A20: 2.2.1. | B20: =D20+E20+F20 -> 34745 | C20: Приобретение звукового оборудования, светотехнического оборудования, переносного экрана для проведения уличных, массовых мероприятий | D20: 34745 | E20: 0 | F20: 0
A21: 2.3. | B21: =B22 -> 17653 | C21: Муниципальная программа «Развитие транспортной системы города Урай» | D21: =D22 -> 17653 | E21: =E22 -> 0 | F21: =F22 -> 0
A22: 2.3.1. | B22: =D22+E22+F22 -> 17653 | C22: Выполнение работ по ремонту дороги по ул. 40 лет Победы (виды выполняемых работ: фрезерование верхнего слоя асфальтобетонного покрытия - 2810 м2.; замена бортового камня - 800 пог.м.; укладка верхнего слоя асфальтобетонного покрытии - 2810 м2.; замена дорожных знаков - 17 шт.; нанесение дорожной разметки) | D22: 17653 | E22: 0 | F22: 0
A23: 2.4. | B23: =B24 -> 75000 | C23: Муниципальная программа "Формирование комфортной городской среды города Урай" | D23: =D24 -> 75000 | E23: =E24 -> 0 | F23: =F24 -> 0
A24: 2.4.1. | B24: =D24+F24 -> 75000 | C24: Выполнение работ по комплексному благоустройству территории "Историко-мемориальный комплекс" (выполнение работ по II этапу "Аллея мира" | D24: =75000 -> 75000 | E24: 0 | F24: 0
A25: 2.5. | B25: =B26 -> 2560 | C25: Муниципальная программа "Развитие жилищно-коммунального комплекса и повышение энергетической эффективности в городе Урай" | D25: =D26 -> 2560 | E25: =E26 -> 0 | F25: =F26 -> 0
A26: 2.5.1. | B26: =D26+F26 -> 2560 | C26: Выполнение работ по реставрации памятника "Первооткрывателю"(замена гранитного камня пьедестала, очистка и покраска фигуры памятника, устройство ограждения гранитного основания памятника) | D26: 2560 | E26: 0 | F26: 0
A27: 3. | B27: =B28+B39+B43+B52+B55+B57+B59+B65+B71+B76+B82+B88+B96+B113+B115+B117 -> 342577 | C27: Местный бюджет | D27: =D28 +D39+D43+D52+D55+D57+D59+D65+D71+D76+D82+D88+D96+D113+D115+D117 -> 327349.5 | E27: =E28 +E39+E43+E52+E55+E57+E59+E65+E71+E76+E82+E88+E96+E113+E115+E117 -> -450 | F27: =F28 +F39+F43+F52+F55+F57+F59+F65+F71+F76+F82+F88+F96+F113+F115+F117 -> 15677.5
A28: 3.1. | B28: =SUM(B29:B38) -> 50834.1 | C28: Муниципальная программа "Развитие образования и молодежной политики в городе Урай" | D28: =SUM(D29:D38) -> 36032.6 | E28: =SUM(E29:E38) -> 0 | F28: =SUM(F29:F38) -> 14801.5
A29: 3.1.1. | B29: =D29+E29+F29 -> 2730 | C29: Предоставление доп.меры семьям участникам СВО (выплата обучающимся по очной форме обучения в возрасте до 23 лет на проезд с 01.03.2025 до 31.12.2025) | D29: 0 | E29: 0 | F29: 2730
A30: 3.1.2. | B30: =D30+E30+F30 -> 345.6 | C30: Заключение договора фрахтования транспортных услуг (организация выездов групп детей на день открытых дверей в ВУЗы в пределах ХМАО-Югры) | F30: 345.6
A31: 3.1.3. | B31: =D31+E31+F31 -> 30018.4 | C31: Выполнение работ по охранно-пожарной сигнализации "МБОУ "Гимназия им А.И.Яковлева" после подтверждения достоверности сметной стоимости | D31: 30018.4
A32: 3.1.4. | B32: =D32+E32+F32 -> 11538.7 | C32: Подготовка образовательных организаций к новому учебному 2025 - 2026 году: предлагается распределить на школы - 6 003,7 тыс.руб. (огнезащитная обработка Гимназия, замеры сопротивления изоляции -Гимназия, №4,№12; монтаж СКУД на калитку -№4,№6; ремонт ограждения кровли -№4, окраска ограждения- №5,расчет пожарных рисков -№6,№12), на д/сады-3 771,0 тыс.руб.(ремонт уличного игрового оборудования -№10, разработка ПСД на замену пожарной сигнализации -№10, замена деревянных оконных блоков- №21, расчеты пожарных рисков -№12), на ЦДО - 1 764,0 тыс.рублей на разработку ПСД на замену пожарной сигнализации | D32: 2819 | F32: 8719.7
A33: 3.1.5. | B33: =D33+E33+F33 -> 2826.6 | C33: Подготовка и проведение праздничных мероприятий, посвященных 80-летию Победы (приобретение парадной формы кадетов, юнармейская форма, форма пограничных войск) | F33: 2826.6
A34: 3.1.6. | B34: =D34+E34+F34 -> 179.6 | C34: Реализация проекта "Предпринимательский класс" (обучение школьников 8-11 классов предпринимательству) | F34: 179.6
A35: 3.1.7. | B35: =D35+E35+F35 -> 2043.7 | C35: Текущие расходы на обеспечение деятельности МАУ МП "ЦМиГИ" (з/плата 0,5 ст.на период летнего трудоустройства молодежи, содержание помещения (коммунальные услуги) по адресу г.Урай, мкр.2, дом 91, льготный проезд, приобретение оборудования, мебели для ДоброЦентра, экипировка для волонтеров) | D35: 2043.7
A36: 3.1.8. | B36: =D36+E36+F36 -> 394.1 | C36: Проведение муниципального этапа регионального Фестиваля работающей молодежи (поручение Губернатора ХМАО-Югры начиная с 2025 года) | D36: 394.1
A37: 3.1.9. | B37: =D37+E37+F37 -> 540 | C37: Выполнение работ по корректировке проектной документации по ремонту стадиона МБОУ СОШ №6 (средства перераспределены с МП "Обеспечение градостроительной деятельности на территории города Урай" за счет экономии) | D37: 540
A38: 3.1.10. | B38: =D38+E38+F38 -> 217.4 | C38: Выполнение работ по проведению гос.экспертизы сметной стоимости кап.ремонта МБОУ Детский сад №12 (перераспределены средства с МП "Обеспечение градостроительной деятельности на территории города Урай" за счет экономии) | D38: 217.4
A39: 3.2. | B39: =SUM(B40:B42) -> 10479.2 | C39: Муниципальная программа "Развитие физической культуры, спорта и туризма в городе Урай и укрепление здоровья граждан города Урай" | D39: =SUM(D40:D42) -> 10479.2 | E39: =SUM(E40:E42) -> 0 | F39: =SUM(F40:F42) -> 0
A40: 3.2.1. | B40: =D40+E40+F40 -> 3492.7 | C40: Заключение договора фрахтования транспортных услуг (перевозка спортсменов для участия в спортивных и физкультурных мероприятиях в пределах ХМАО) | D40: =2563.3+929.4 -> 3492.7
...
